BEGIN:VCALENDAR
VERSION:2.0
PRODID:icalendar-ruby
CALSCALE:GREGORIAN
METHOD:PUBLISH
BEGIN:VEVENT
DTSTAMP:20260420T110552Z
UID:109-169674@rejoicefrisco.com
DTSTART:20250822T233000Z
DTEND:20250823T003000Z
CLASS:PUBLIC
CREATED:20251109T201619
DESCRIPTION:
LAST-MODIFIED:20251109T201619
LOCATION:
SUMMARY:Bunco
URL;VALUE=URI:https://rejoicefrisco.com/events/bunco--109/2025-08-22
ATTACH;FILENAME=Buncogame_4.jpg;FMTTYPE=image/jpeg:https://dq5pwpg1q8ru0.cl
 oudfront.net/2025/05/25/20/11/52/7630cfb4-a672-40a4-84a3-c05b020b8723/Bunc
 ogame_4.jpg
END:VEVENT
END:VCALENDAR
